BEGIN:VCALENDAR
VERSION:2.0
PRODID:-//Vänsterpartiet Östergötland - ECPv6.15.17.1//NONSGML v1.0//EN
CALSCALE:GREGORIAN
METHOD:PUBLISH
X-WR-CALNAME:Vänsterpartiet Östergötland
X-ORIGINAL-URL:https://ostergotland.vansterpartiet.se
X-WR-CALDESC:Händelser för Vänsterpartiet Östergötland
REFRESH-INTERVAL;VALUE=DURATION:PT1H
X-Robots-Tag:noindex
X-PUBLISHED-TTL:PT1H
BEGIN:VTIMEZONE
TZID:Europe/Stockholm
BEGIN:DAYLIGHT
TZOFFSETFROM:+0100
TZOFFSETTO:+0200
TZNAME:CEST
DTSTART:20250330T010000
END:DAYLIGHT
BEGIN:STANDARD
TZOFFSETFROM:+0200
TZOFFSETTO:+0100
TZNAME:CET
DTSTART:20251026T010000
END:STANDARD
BEGIN:DAYLIGHT
TZOFFSETFROM:+0100
TZOFFSETTO:+0200
TZNAME:CEST
DTSTART:20260329T010000
END:DAYLIGHT
BEGIN:STANDARD
TZOFFSETFROM:+0200
TZOFFSETTO:+0100
TZNAME:CET
DTSTART:20261025T010000
END:STANDARD
BEGIN:DAYLIGHT
TZOFFSETFROM:+0100
TZOFFSETTO:+0200
TZNAME:CEST
DTSTART:20270328T010000
END:DAYLIGHT
BEGIN:STANDARD
TZOFFSETFROM:+0200
TZOFFSETTO:+0100
TZNAME:CET
DTSTART:20271031T010000
END:STANDARD
END:VTIMEZONE
BEGIN:VEVENT
DTSTART;TZID=Europe/Stockholm:20260811T170000
DTEND;TZID=Europe/Stockholm:20260811T190000
DTSTAMP:20260423T065951
CREATED:20260414T064040Z
LAST-MODIFIED:20260414T064040Z
UID:7210-1786467600-1786474800@ostergotland.vansterpartiet.se
SUMMARY:Dörrknackning i Vadstena
DESCRIPTION:Välkommen att knacka dörr med oss! Att prata med människor är det viktigaste vi gör inför valet. Det är enkelt att komma igång och du behöver inga förkunskaper\, vi går igenom allt på plats. Det är roligt\, meningsfullt och gör skillnad på riktigt. Ta chansen att vara med! \nAnmäl dig här: https://app.zetkin.org/o/258/events/53164
URL:https://ostergotland.vansterpartiet.se/event/dorrknackning-i-vadstena/
CATEGORIES:Vadstena
END:VEVENT
END:VCALENDAR