BEGIN:VCALENDAR
VERSION:2.0
PRODID:-//Vänsterpartiet Östergötland - ECPv6.15.20//NONSGML v1.0//EN
CALSCALE:GREGORIAN
METHOD:PUBLISH
X-WR-CALNAME:Vänsterpartiet Östergötland
X-ORIGINAL-URL:https://ostergotland.vansterpartiet.se
X-WR-CALDESC:Händelser för Vänsterpartiet Östergötland
REFRESH-INTERVAL;VALUE=DURATION:PT1H
X-Robots-Tag:noindex
X-PUBLISHED-TTL:PT1H
BEGIN:VTIMEZONE
TZID:Europe/Stockholm
BEGIN:DAYLIGHT
TZOFFSETFROM:+0100
TZOFFSETTO:+0200
TZNAME:CEST
DTSTART:20250330T010000
END:DAYLIGHT
BEGIN:STANDARD
TZOFFSETFROM:+0200
TZOFFSETTO:+0100
TZNAME:CET
DTSTART:20251026T010000
END:STANDARD
BEGIN:DAYLIGHT
TZOFFSETFROM:+0100
TZOFFSETTO:+0200
TZNAME:CEST
DTSTART:20260329T010000
END:DAYLIGHT
BEGIN:STANDARD
TZOFFSETFROM:+0200
TZOFFSETTO:+0100
TZNAME:CET
DTSTART:20261025T010000
END:STANDARD
BEGIN:DAYLIGHT
TZOFFSETFROM:+0100
TZOFFSETTO:+0200
TZNAME:CEST
DTSTART:20270328T010000
END:DAYLIGHT
BEGIN:STANDARD
TZOFFSETFROM:+0200
TZOFFSETTO:+0100
TZNAME:CET
DTSTART:20271031T010000
END:STANDARD
END:VTIMEZONE
BEGIN:VEVENT
DTSTART;TZID=Europe/Stockholm:20260426T100000
DTEND;TZID=Europe/Stockholm:20260426T120000
DTSTAMP:20260426T010929
CREATED:20260313T081240Z
LAST-MODIFIED:20260313T081240Z
UID:7136-1777197600-1777204800@ostergotland.vansterpartiet.se
SUMMARY:Dörrknackning Linköping
DESCRIPTION:Välkommen att knacka dörr med oss!\nAtt prata med människor är det viktigaste vi gör inför valet. Det är enkelt att komma igång och du behöver inga förkunskaper\, vi går igenom allt på plats. \nDet är roligt\, meningsfullt och gör skillnad på riktigt. \nTa chansen att vara med! \nAnmäl dig här: https://app.zetkin.org/o/253/surveys/2750
URL:https://ostergotland.vansterpartiet.se/event/dorrknackning-linkoping-3/
CATEGORIES:Dörrknackning
END:VEVENT
BEGIN:VEVENT
DTSTART;TZID=Europe/Stockholm:20260426T130000
DTEND;TZID=Europe/Stockholm:20260426T150000
DTSTAMP:20260426T010929
CREATED:20260313T081418Z
LAST-MODIFIED:20260313T081418Z
UID:7138-1777208400-1777215600@ostergotland.vansterpartiet.se
SUMMARY:Dörrknackning Linköping
DESCRIPTION:Välkommen att knacka dörr med oss!\nAtt prata med människor är det viktigaste vi gör inför valet. Det är enkelt att komma igång och du behöver inga förkunskaper\, vi går igenom allt på plats. \nDet är roligt\, meningsfullt och gör skillnad på riktigt. \nTa chansen att vara med! \nAnmäl dig här: https://app.zetkin.org/o/253/events/51555
URL:https://ostergotland.vansterpartiet.se/event/dorrknackning-linkoping-4/
CATEGORIES:Dörrknackning
END:VEVENT
END:VCALENDAR