BEGIN:VCALENDAR
VERSION:2.0
PRODID:-//Vänsterpartiet Östergötland - ECPv6.15.20//NONSGML v1.0//EN
CALSCALE:GREGORIAN
METHOD:PUBLISH
X-WR-CALNAME:Vänsterpartiet Östergötland
X-ORIGINAL-URL:https://ostergotland.vansterpartiet.se
X-WR-CALDESC:Händelser för Vänsterpartiet Östergötland
REFRESH-INTERVAL;VALUE=DURATION:PT1H
X-Robots-Tag:noindex
X-PUBLISHED-TTL:PT1H
BEGIN:VTIMEZONE
TZID:Europe/Stockholm
BEGIN:DAYLIGHT
TZOFFSETFROM:+0100
TZOFFSETTO:+0200
TZNAME:CEST
DTSTART:20250330T010000
END:DAYLIGHT
BEGIN:STANDARD
TZOFFSETFROM:+0200
TZOFFSETTO:+0100
TZNAME:CET
DTSTART:20251026T010000
END:STANDARD
BEGIN:DAYLIGHT
TZOFFSETFROM:+0100
TZOFFSETTO:+0200
TZNAME:CEST
DTSTART:20260329T010000
END:DAYLIGHT
BEGIN:STANDARD
TZOFFSETFROM:+0200
TZOFFSETTO:+0100
TZNAME:CET
DTSTART:20261025T010000
END:STANDARD
BEGIN:DAYLIGHT
TZOFFSETFROM:+0100
TZOFFSETTO:+0200
TZNAME:CEST
DTSTART:20270328T010000
END:DAYLIGHT
BEGIN:STANDARD
TZOFFSETFROM:+0200
TZOFFSETTO:+0100
TZNAME:CET
DTSTART:20271031T010000
END:STANDARD
END:VTIMEZONE
BEGIN:VEVENT
DTSTART;TZID=Europe/Stockholm:20260425T100000
DTEND;TZID=Europe/Stockholm:20260425T120000
DTSTAMP:20260425T011659
CREATED:20260319T070523Z
LAST-MODIFIED:20260324T082019Z
UID:7157-1777111200-1777118400@ostergotland.vansterpartiet.se
SUMMARY:Dörrknackning Norrköping\, Ljura
DESCRIPTION:Häng med på dörrknackning – nu börjar maktskiftet på riktigt!! \nAtt knacka dörr är det absolut viktigaste vi kommer göra inför valet\, vi vet att det är genom att prata med människor som vi bygger förtroende och det viktigaste steget vi kan ta för maktksiftet. Så ta på dig varma kläder och kom med! \nDet behövs inga förkunskaper\, vi går igenom allt på plats så du kan känna dig trygg. \nDen här dagen kör vi två pass efter varandra. Du kan anmäla dig till ett pass\, men var gärna med på båda!\nPassen är mellan:\n• kl. 10–12\n• kl. 13–15 \nAnmälan görs separat till varje pass. \nAnmäl dig här: https://app.zetkin.org/o/256/projects/6421 \nMellan kl 12:00-13:00 kan alla som vill äta lunch ihop som partiet bjuder på! \nVi ses!
URL:https://ostergotland.vansterpartiet.se/event/dorrknackning-25-april-ljura/
CATEGORIES:Dörrknackning,Norrköping
END:VEVENT
BEGIN:VEVENT
DTSTART;TZID=Europe/Stockholm:20260425T130000
DTEND;TZID=Europe/Stockholm:20260425T150000
DTSTAMP:20260425T011659
CREATED:20260319T070615Z
LAST-MODIFIED:20260324T082009Z
UID:7159-1777122000-1777129200@ostergotland.vansterpartiet.se
SUMMARY:Dörrknackning Norrköping\, Ljura
DESCRIPTION:Häng med på dörrknackning – nu börjar maktskiftet på riktigt!! \nAtt knacka dörr är det absolut viktigaste vi kommer göra inför valet\, vi vet att det är genom att prata med människor som vi bygger förtroende och det viktigaste steget vi kan ta för maktksiftet. Så ta på dig varma kläder och kom med! \nDet behövs inga förkunskaper\, vi går igenom allt på plats så du kan känna dig trygg. \nDen här dagen kör vi två pass efter varandra. Du kan anmäla dig till ett pass\, men var gärna med på båda!\nPassen är mellan:\n• kl. 10–12\n• kl. 13–15 \nAnmälan görs separat till varje pass. \nAnmäl dig här: https://app.zetkin.org/o/256/projects/6421 \nMellan kl 12:00-13:00 kan alla som vill äta lunch ihop som partiet bjuder på! \nVi ses!
URL:https://ostergotland.vansterpartiet.se/event/dorrknackning-25-april-ljura-2/
CATEGORIES:Dörrknackning,Norrköping
END:VEVENT
END:VCALENDAR