BEGIN:VCALENDAR
VERSION:2.0
PRODID:-//Vänsterpartiet Östergötland - ECPv6.15.17.1//NONSGML v1.0//EN
CALSCALE:GREGORIAN
METHOD:PUBLISH
X-WR-CALNAME:Vänsterpartiet Östergötland
X-ORIGINAL-URL:https://ostergotland.vansterpartiet.se
X-WR-CALDESC:Händelser för Vänsterpartiet Östergötland
REFRESH-INTERVAL;VALUE=DURATION:PT1H
X-Robots-Tag:noindex
X-PUBLISHED-TTL:PT1H
BEGIN:VTIMEZONE
TZID:Europe/Stockholm
BEGIN:DAYLIGHT
TZOFFSETFROM:+0100
TZOFFSETTO:+0200
TZNAME:CEST
DTSTART:20250330T010000
END:DAYLIGHT
BEGIN:STANDARD
TZOFFSETFROM:+0200
TZOFFSETTO:+0100
TZNAME:CET
DTSTART:20251026T010000
END:STANDARD
BEGIN:DAYLIGHT
TZOFFSETFROM:+0100
TZOFFSETTO:+0200
TZNAME:CEST
DTSTART:20260329T010000
END:DAYLIGHT
BEGIN:STANDARD
TZOFFSETFROM:+0200
TZOFFSETTO:+0100
TZNAME:CET
DTSTART:20261025T010000
END:STANDARD
BEGIN:DAYLIGHT
TZOFFSETFROM:+0100
TZOFFSETTO:+0200
TZNAME:CEST
DTSTART:20270328T010000
END:DAYLIGHT
BEGIN:STANDARD
TZOFFSETFROM:+0200
TZOFFSETTO:+0100
TZNAME:CET
DTSTART:20271031T010000
END:STANDARD
END:VTIMEZONE
BEGIN:VEVENT
DTSTART;TZID=Europe/Stockholm:20260422T170000
DTEND;TZID=Europe/Stockholm:20260422T190000
DTSTAMP:20260422T214214
CREATED:20260410T075642Z
LAST-MODIFIED:20260410T075642Z
UID:7204-1776877200-1776884400@ostergotland.vansterpartiet.se
SUMMARY:Dörrknackning\, Sankt Persgatan\, Norrköping
DESCRIPTION:Häng med på dörrknackning – nu börjar maktskiftet på riktigt! \nAtt knacka dörr är det absolut viktigaste vi gör inför valet. Det är när vi möter människor i deras vardag som vi bygger förtroende\, får veta vad som är viktigt på riktigt och lägger grunden för ett maktskifte. \nDen här eftermiddagen satsar vi på att knacka husen på Sanktpersgatan 126-132\, som är perfekta för dörrknackning. Många våningar\, många dörrar och framför allt många bra samtal. \nDu behöver ingen tidigare erfarenhet\, vi går igenom allt på plats. \nAnmäl dig här: https://app.zetkin.org/o/256/events/53022
URL:https://ostergotland.vansterpartiet.se/event/dorrknackning-sankt-persgatan-norrkoping/
CATEGORIES:Dörrknackning,Norrköping
END:VEVENT
END:VCALENDAR